BEGIN:VCALENDAR
VERSION:2.0
PRODID:-//Mother Knitter - ECPv6.15.20//NONSGML v1.0//EN
CALSCALE:GREGORIAN
METHOD:PUBLISH
X-ORIGINAL-URL:https://motherknitter.com
X-WR-CALDESC:Events for Mother Knitter
REFRESH-INTERVAL;VALUE=DURATION:PT1H
X-Robots-Tag:noindex
X-PUBLISHED-TTL:PT1H
BEGIN:VTIMEZONE
TZID:America/New_York
BEGIN:DAYLIGHT
TZOFFSETFROM:-0500
TZOFFSETTO:-0400
TZNAME:EDT
DTSTART:20220313T070000
END:DAYLIGHT
BEGIN:STANDARD
TZOFFSETFROM:-0400
TZOFFSETTO:-0500
TZNAME:EST
DTSTART:20221106T060000
END:STANDARD
BEGIN:DAYLIGHT
TZOFFSETFROM:-0500
TZOFFSETTO:-0400
TZNAME:EDT
DTSTART:20230312T070000
END:DAYLIGHT
BEGIN:STANDARD
TZOFFSETFROM:-0400
TZOFFSETTO:-0500
TZNAME:EST
DTSTART:20231105T060000
END:STANDARD
BEGIN:DAYLIGHT
TZOFFSETFROM:-0500
TZOFFSETTO:-0400
TZNAME:EDT
DTSTART:20240310T070000
END:DAYLIGHT
BEGIN:STANDARD
TZOFFSETFROM:-0400
TZOFFSETTO:-0500
TZNAME:EST
DTSTART:20241103T060000
END:STANDARD
END:VTIMEZONE
BEGIN:VEVENT
DTSTART;TZID=America/New_York:20230914T103000
DTEND;TZID=America/New_York:20230914T120000
DTSTAMP:20260423T062823
CREATED:20230823T181449Z
LAST-MODIFIED:20230823T181451Z
UID:10000238-1694687400-1694692800@motherknitter.com
SUMMARY:Lilli Loom Weaving
DESCRIPTION:Sign Up Here\n\n\n\n\nLevel – beginner  \n\n\n\n3 classes on Sept 14\, 21\, 28  \n\n\n\nPrerequisite – an excitement and curiosity for tapestry weaving! \n\n\n\nWhether you are a beginner to frame loom weaving\, fiber arts\, or both\, this class is welcome to all! We will be working with texture\, form\, and pattern to create a collection of painterly fabrics. Be inspired\, develop creative authority\, and build artistic confidence in this epic new weaving class! \n\n\n\nYou will learn:How to start and finish your woven fabricCountless tapestry weaving techniquesHow to turn inspiration into fiber artTechniques to expand your fabric after it’s off the loomThe fundamentals of art and design \n\n\n\nMaterials:Lilli LoomMandarin Petit – 1 skein Malibrigo Rasta – 1 skeinA worsted weight yarn – 1 skeinPlus any additional yarns! \n\n\n\nBecause this class really benefits from a larger selection of yarn types and colors while requiring less yardage\, I recommend we sell inexpensive mini skeins on cardboard bobbins in multitudes of colors in order for the students to use variety within their work\, possibly using defective skeins.
URL:https://motherknitter.com/event/lilli-loom-weaving/
LOCATION:Mother Knitter Yarn Studio
CATEGORIES:Weaving/Textiles
ATTACH;FMTTYPE=image/jpeg:https://motherknitter.com/wp-content/uploads/2023/08/8227e81a-0647-4179-8a3b-becece1c23a4.jpeg
END:VEVENT
END:VCALENDAR