BEGIN:VCALENDAR
VERSION:2.0
PRODID:-//Mother Knitter - ECPv6.15.20//NONSGML v1.0//EN
CALSCALE:GREGORIAN
METHOD:PUBLISH
X-WR-CALNAME:Mother Knitter
X-ORIGINAL-URL:https://motherknitter.com
X-WR-CALDESC:Events for Mother Knitter
REFRESH-INTERVAL;VALUE=DURATION:PT1H
X-Robots-Tag:noindex
X-PUBLISHED-TTL:PT1H
BEGIN:VTIMEZONE
TZID:America/New_York
BEGIN:DAYLIGHT
TZOFFSETFROM:-0500
TZOFFSETTO:-0400
TZNAME:EDT
DTSTART:20220313T070000
END:DAYLIGHT
BEGIN:STANDARD
TZOFFSETFROM:-0400
TZOFFSETTO:-0500
TZNAME:EST
DTSTART:20221106T060000
END:STANDARD
BEGIN:DAYLIGHT
TZOFFSETFROM:-0500
TZOFFSETTO:-0400
TZNAME:EDT
DTSTART:20230312T070000
END:DAYLIGHT
BEGIN:STANDARD
TZOFFSETFROM:-0400
TZOFFSETTO:-0500
TZNAME:EST
DTSTART:20231105T060000
END:STANDARD
BEGIN:DAYLIGHT
TZOFFSETFROM:-0500
TZOFFSETTO:-0400
TZNAME:EDT
DTSTART:20240310T070000
END:DAYLIGHT
BEGIN:STANDARD
TZOFFSETFROM:-0400
TZOFFSETTO:-0500
TZNAME:EST
DTSTART:20241103T060000
END:STANDARD
END:VTIMEZONE
BEGIN:VEVENT
DTSTART;TZID=America/New_York:20230909T130000
DTEND;TZID=America/New_York:20230909T143000
DTSTAMP:20260422T050159
CREATED:20230823T171618Z
LAST-MODIFIED:20230823T171620Z
UID:10000235-1694264400-1694269800@motherknitter.com
SUMMARY:E Spinning
DESCRIPTION:Sign Up Here\n\n\n\n\n3 classes on Sept 9th\, 16th\, 23rd. \n\n\n\nLearn the fundamentals of how to spin yarn on an electric spinning wheel! The Dreaming Robots ESpinners have taken the spinning world by storm with their easy setup\, 3D printed design\, affordable price\, and versatility of yarns you can spin!  While also learning how to use your espinner\, in this course\, you will learn the relationship between twist and fiber\, how various spinning methods result in different yarns\, how several fibers change the way yarn behaves\, and more! Leave this class with the knowledge of how to start your spinning journey. \n\n\n\nLevel: Absolute beginner \n\n\n\nSkills Required: Enthusiasm! \n\n\n\nMaterials: Dreaming Robots Eel Wheel 6.0 or the Nano 2\, can be bought in store4 ounces of wool\, either Sophie Rose Fiber Works or Sandnes Garn Norwegian Wool \n\n\n\nRecommended equipment: Niddy Noddy
URL:https://motherknitter.com/event/e-spinning/
CATEGORIES:Spinning
ATTACH;FMTTYPE=image/jpeg:https://motherknitter.com/wp-content/uploads/2023/08/20230321_160439-scaled.jpg
END:VEVENT
END:VCALENDAR