BEGIN:VCALENDAR
VERSION:2.0
PRODID:-//Mother Knitter - ECPv6.15.20//NONSGML v1.0//EN
CALSCALE:GREGORIAN
METHOD:PUBLISH
X-ORIGINAL-URL:https://motherknitter.com
X-WR-CALDESC:Events for Mother Knitter
REFRESH-INTERVAL;VALUE=DURATION:PT1H
X-Robots-Tag:noindex
X-PUBLISHED-TTL:PT1H
BEGIN:VTIMEZONE
TZID:America/New_York
BEGIN:DAYLIGHT
TZOFFSETFROM:-0500
TZOFFSETTO:-0400
TZNAME:EDT
DTSTART:20220313T070000
END:DAYLIGHT
BEGIN:STANDARD
TZOFFSETFROM:-0400
TZOFFSETTO:-0500
TZNAME:EST
DTSTART:20221106T060000
END:STANDARD
BEGIN:DAYLIGHT
TZOFFSETFROM:-0500
TZOFFSETTO:-0400
TZNAME:EDT
DTSTART:20230312T070000
END:DAYLIGHT
BEGIN:STANDARD
TZOFFSETFROM:-0400
TZOFFSETTO:-0500
TZNAME:EST
DTSTART:20231105T060000
END:STANDARD
BEGIN:DAYLIGHT
TZOFFSETFROM:-0500
TZOFFSETTO:-0400
TZNAME:EDT
DTSTART:20240310T070000
END:DAYLIGHT
BEGIN:STANDARD
TZOFFSETFROM:-0400
TZOFFSETTO:-0500
TZNAME:EST
DTSTART:20241103T060000
END:STANDARD
END:VTIMEZONE
BEGIN:VEVENT
DTSTART;TZID=America/New_York:20230606T170000
DTEND;TZID=America/New_York:20230606T190000
DTSTAMP:20260419T081402
CREATED:20230516T162811Z
LAST-MODIFIED:20230525T183339Z
UID:10000203-1686070800-1686078000@motherknitter.com
SUMMARY:Magna Flora Knit-Along
DESCRIPTION:Sign Up Here\n\n\n\n\n3 sessions run June 6\, 13\, and 20 at 5:00-7:00 pm \n\n\n\nAlisa Hartzel has designed this lovely warm-weather knitted sweater featuring a beginner-friendly lace repeat with two sleeve-length options. We will all be knitting this sweater\, but you may choose your sleeve length and if you would like to make the body length longer\, you’ll just need additional yarn.  \n\n\n\nIt is recommended that you are comfortable with yarn over and M1 increases and Knit 2 together decreases\, short rows (German short rows or wrap and turn technique)\, and have knit a sweater. \n\n\n\nThis is a Knit-Along\, not a class\, however\, support guidance is available (you can select to add optional private instruction on the Magna Flora KIT page). The purchase of yarn + pattern for the class is mandatory to participate. \n\n\n\n**Please remember that the kit has yarn for sizes 1 + 2 (short sleeves option). If you need additional yarn for a larger size\, length or longer sleeves\, don’t forget to add yarn to your cart!** \n\n\n\nFor pattern information\, to purchase the kit and register for the KAL\, please click HERE for more details
URL:https://motherknitter.com/event/magna-flora-knit-along/
LOCATION:Mother Knitter Yarn Studio
CATEGORIES:Knit-a-Long
ATTACH;FMTTYPE=image/jpeg:https://motherknitter.com/wp-content/uploads/2023/05/IMG_9716_medium2.jpg
END:VEVENT
BEGIN:VEVENT
DTSTART;TZID=America/New_York:20230215T170000
DTEND;TZID=America/New_York:20230215T190000
DTSTAMP:20260419T081402
CREATED:20221219T182238Z
LAST-MODIFIED:20230117T184022Z
UID:10000085-1676480400-1676487600@motherknitter.com
SUMMARY:Knit-Along Yvonne MT Shawl
DESCRIPTION:Sign Up Here\n\n\n\n\nThis is a four-class series on Jan 18\, 25\, Feb 1 & 15. \n\n\n\nWhat to bring: Size US 4 circular knitting needle (US 3 & 5 in case you need to use to get gauge)\, 2 colors of fingering weight wool or wool blend (preferably non superwash)\, the usual tools- ruler/tape measure\, stitch markers\, scissors\, pencil and paper\, sticky notes or highlight tape\, and a printed copy of the Yvonne MT shawl pattern by Natasja Hornby. \n\n\n\nKnit-AlongNatasja Hornby has just released the Yvonne MT Shawl! This “Grand Mosaic” shawl features a two and three color option. The two color option is just as grand as the three color. The three color features a “light intarsia” technique. We will all be knitting the two color option\, however\, if you have experience in mosaic and intarsia\, you may opt to choose 3 colors. Keep in mind the Knit-Along is featuring the mosaic technique and requires the first class session as a pre-requisite. \n\n\n\n*Advanced Beginner skills recommended. \n\n\n\nMosaic technique is a simple technique with impressive results. The “light Intarsia” technique involves changing color mid row\, and twisting the yarn for a smooth transition.
URL:https://motherknitter.com/event/knit-along-yvonne-my-shawl/2023-02-15/
LOCATION:Mother Knitter Yarn Studio
CATEGORIES:Knit-a-Long
ATTACH;FMTTYPE=image/jpeg:https://motherknitter.com/wp-content/uploads/2022/12/Mom_and_me_cropped_medium2.jpg
END:VEVENT
END:VCALENDAR