BEGIN:VCALENDAR
VERSION:2.0
PRODID:-//Mother Knitter - ECPv6.15.20//NONSGML v1.0//EN
CALSCALE:GREGORIAN
METHOD:PUBLISH
X-ORIGINAL-URL:https://motherknitter.com
X-WR-CALDESC:Events for Mother Knitter
REFRESH-INTERVAL;VALUE=DURATION:PT1H
X-Robots-Tag:noindex
X-PUBLISHED-TTL:PT1H
BEGIN:VTIMEZONE
TZID:America/New_York
BEGIN:DAYLIGHT
TZOFFSETFROM:-0500
TZOFFSETTO:-0400
TZNAME:EDT
DTSTART:20240310T070000
END:DAYLIGHT
BEGIN:STANDARD
TZOFFSETFROM:-0400
TZOFFSETTO:-0500
TZNAME:EST
DTSTART:20241103T060000
END:STANDARD
BEGIN:DAYLIGHT
TZOFFSETFROM:-0500
TZOFFSETTO:-0400
TZNAME:EDT
DTSTART:20250309T070000
END:DAYLIGHT
BEGIN:STANDARD
TZOFFSETFROM:-0400
TZOFFSETTO:-0500
TZNAME:EST
DTSTART:20251102T060000
END:STANDARD
BEGIN:DAYLIGHT
TZOFFSETFROM:-0500
TZOFFSETTO:-0400
TZNAME:EDT
DTSTART:20260308T070000
END:DAYLIGHT
BEGIN:STANDARD
TZOFFSETFROM:-0400
TZOFFSETTO:-0500
TZNAME:EST
DTSTART:20261101T060000
END:STANDARD
END:VTIMEZONE
BEGIN:VEVENT
DTSTART;TZID=America/New_York:20250801T140000
DTEND;TZID=America/New_York:20250801T160000
DTSTAMP:20260419T082558
CREATED:20250611T160020Z
LAST-MODIFIED:20250614T201805Z
UID:10001232-1754056800-1754064000@motherknitter.com
SUMMARY:Jaunty Sweater Kal
DESCRIPTION:Sessions: July 4\, July 18\, July 25\, August 1 (Note\, no session on July 11) \n\n\n\nThe Jaunty sweater is perfect for the transition between seasons! Holding two strands of light fingering weight yarn together produces a light fabric that you can make your own by marling two colors together. This project will combine stockinette stitch\, cables\, and lace together to form a beautiful & unique sweater! \n\n\n\nYarn purchase at Mother Knitter required. \n\n\n\nLocation: In person \n\n\n\nSkill level: Intermediate \n\n\n\nSkills required: Cables\, lace\, seaming \n\n\n\nMaterials needed: \n\n\n\nRecommended yarn: Tynn Line\, Alpakka Silke\, Sunday \n\n\n\nPattern: https://www.ravelry.com/patterns/library/jaunty-4 \n\n\n\nUS 8 (5.0 mm) needles \n\n\n\nUS 10.5 (6.5 mm) needles \n\n\n\n\nReserve your spot!
URL:https://motherknitter.com/event/jaunty-sweater-kal/2025-08-01/
CATEGORIES:Knit-a-Long
ATTACH;FMTTYPE=image/jpeg:https://motherknitter.com/wp-content/uploads/2025/06/dandoh-022017-1s.jpg
END:VEVENT
BEGIN:VEVENT
DTSTART;TZID=America/New_York:20250801T140000
DTEND;TZID=America/New_York:20250801T160000
DTSTAMP:20260419T082558
CREATED:20250703T154450Z
LAST-MODIFIED:20250703T154453Z
UID:10001245-1754056800-1754064000@motherknitter.com
SUMMARY:Stash Buster KAL
DESCRIPTION:Sessions: July 25\, August 8\, August 15\, August 22\, August 29 at 2-4pm \n\n\n\nAre you feeling overwhelmed by your ever-growing stash? This is the KAL for you! Choose from 5 different designs all using the same stitch pattern: two shawls\, a tank top\, a project bag\, or a blouse. These designs call for many contrast colors in small quantities so they are a perfect stash buster for your light fingering or fingering weight scraps. \n\n\n\nYarn purchase at Mother Knitter required for your main color. \n\n\n\n\nLocation: In person\n\n\n\nSkill level: Intermediate\n\n\n\nSkills required: Lace\, seaming\n\n\n\nRecommended yarn: Tynn Line\, Sunday\n\n\n\nNeedle sizes required: Varies depending on pattern\n\n\n\n\nPatterns: \n\n\n\nhttps://www.ravelry.com/patterns/library/top-2-3 \n\n\n\nhttps://www.ravelry.com/patterns/library/project-bag-13 \n\n\n\nhttps://www.ravelry.com/patterns/library/shawl-2-4 \n\n\n\nhttps://www.ravelry.com/patterns/library/blouse-2-2 \n\n\n\nhttps://www.ravelry.com/patterns/library/shawl-1-4 \n\n\n\n\nReserve your spot now!
URL:https://motherknitter.com/event/stash-buster-kal/2025-08-01/
CATEGORIES:Knit-a-Long
ATTACH;FMTTYPE=image/png:https://motherknitter.com/wp-content/uploads/2025/07/top_2.1_medium2.png
END:VEVENT
BEGIN:VEVENT
DTSTART;TZID=America/New_York:20250805T150000
DTEND;TZID=America/New_York:20250805T170000
DTSTAMP:20260419T082558
CREATED:20250521T120739Z
LAST-MODIFIED:20250814T220952Z
UID:10001222-1754406000-1754413200@motherknitter.com
SUMMARY:Sheep Sweater KAL
DESCRIPTION:8 sessions: 3-5pm. \n\n\n\nThe Sheep Sweater by Rosa Pomar is a beautiful and fresh take on sheep imagery.  Possibly inspired by Princess Diana’s iconic sheep sweater\, this version has all over colorwork and steeks at the armholes and neck.   \n\n\n\nLevel: Intermediate \n\n\n\nSkills Required:  Stranded Colorwork\, steaking\, knitting in the round \n\n\n\nMaterials:  https://www.ravelry.com/patterns/library/the-sheep-sweater \n\n\n\nNon-superwash fingering weight yarn \n\n\n\nUS1 (2.25mm) and US2.5 (3mm) circular needles \n\n\n\nRecommended yarn:  Pegulhal by Rosa PomarYarn must be purchased from Mother Knitter. \n\n\n\n\nReserve your spot now!
URL:https://motherknitter.com/event/sheep-sweater-kal/2025-08-05/
CATEGORIES:Knit-a-Long
ATTACH;FMTTYPE=image/jpeg:https://motherknitter.com/wp-content/uploads/2025/05/DSC_1351.jpeg
END:VEVENT
BEGIN:VEVENT
DTSTART;TZID=America/New_York:20250808T140000
DTEND;TZID=America/New_York:20250808T160000
DTSTAMP:20260419T082558
CREATED:20250703T154450Z
LAST-MODIFIED:20250703T154453Z
UID:10001246-1754661600-1754668800@motherknitter.com
SUMMARY:Stash Buster KAL
DESCRIPTION:Sessions: July 25\, August 8\, August 15\, August 22\, August 29 at 2-4pm \n\n\n\nAre you feeling overwhelmed by your ever-growing stash? This is the KAL for you! Choose from 5 different designs all using the same stitch pattern: two shawls\, a tank top\, a project bag\, or a blouse. These designs call for many contrast colors in small quantities so they are a perfect stash buster for your light fingering or fingering weight scraps. \n\n\n\nYarn purchase at Mother Knitter required for your main color. \n\n\n\n\nLocation: In person\n\n\n\nSkill level: Intermediate\n\n\n\nSkills required: Lace\, seaming\n\n\n\nRecommended yarn: Tynn Line\, Sunday\n\n\n\nNeedle sizes required: Varies depending on pattern\n\n\n\n\nPatterns: \n\n\n\nhttps://www.ravelry.com/patterns/library/top-2-3 \n\n\n\nhttps://www.ravelry.com/patterns/library/project-bag-13 \n\n\n\nhttps://www.ravelry.com/patterns/library/shawl-2-4 \n\n\n\nhttps://www.ravelry.com/patterns/library/blouse-2-2 \n\n\n\nhttps://www.ravelry.com/patterns/library/shawl-1-4 \n\n\n\n\nReserve your spot now!
URL:https://motherknitter.com/event/stash-buster-kal/2025-08-08/
CATEGORIES:Knit-a-Long
ATTACH;FMTTYPE=image/png:https://motherknitter.com/wp-content/uploads/2025/07/top_2.1_medium2.png
END:VEVENT
BEGIN:VEVENT
DTSTART;TZID=America/New_York:20250812T150000
DTEND;TZID=America/New_York:20250812T170000
DTSTAMP:20260419T082558
CREATED:20250521T120739Z
LAST-MODIFIED:20250814T220952Z
UID:10001223-1755010800-1755018000@motherknitter.com
SUMMARY:Sheep Sweater KAL
DESCRIPTION:8 sessions: 3-5pm. \n\n\n\nThe Sheep Sweater by Rosa Pomar is a beautiful and fresh take on sheep imagery.  Possibly inspired by Princess Diana’s iconic sheep sweater\, this version has all over colorwork and steeks at the armholes and neck.   \n\n\n\nLevel: Intermediate \n\n\n\nSkills Required:  Stranded Colorwork\, steaking\, knitting in the round \n\n\n\nMaterials:  https://www.ravelry.com/patterns/library/the-sheep-sweater \n\n\n\nNon-superwash fingering weight yarn \n\n\n\nUS1 (2.25mm) and US2.5 (3mm) circular needles \n\n\n\nRecommended yarn:  Pegulhal by Rosa PomarYarn must be purchased from Mother Knitter. \n\n\n\n\nReserve your spot now!
URL:https://motherknitter.com/event/sheep-sweater-kal/2025-08-12/
CATEGORIES:Knit-a-Long
ATTACH;FMTTYPE=image/jpeg:https://motherknitter.com/wp-content/uploads/2025/05/DSC_1351.jpeg
END:VEVENT
BEGIN:VEVENT
DTSTART;TZID=America/New_York:20250815T140000
DTEND;TZID=America/New_York:20250815T160000
DTSTAMP:20260419T082558
CREATED:20250703T154450Z
LAST-MODIFIED:20250703T154453Z
UID:10001247-1755266400-1755273600@motherknitter.com
SUMMARY:Stash Buster KAL
DESCRIPTION:Sessions: July 25\, August 8\, August 15\, August 22\, August 29 at 2-4pm \n\n\n\nAre you feeling overwhelmed by your ever-growing stash? This is the KAL for you! Choose from 5 different designs all using the same stitch pattern: two shawls\, a tank top\, a project bag\, or a blouse. These designs call for many contrast colors in small quantities so they are a perfect stash buster for your light fingering or fingering weight scraps. \n\n\n\nYarn purchase at Mother Knitter required for your main color. \n\n\n\n\nLocation: In person\n\n\n\nSkill level: Intermediate\n\n\n\nSkills required: Lace\, seaming\n\n\n\nRecommended yarn: Tynn Line\, Sunday\n\n\n\nNeedle sizes required: Varies depending on pattern\n\n\n\n\nPatterns: \n\n\n\nhttps://www.ravelry.com/patterns/library/top-2-3 \n\n\n\nhttps://www.ravelry.com/patterns/library/project-bag-13 \n\n\n\nhttps://www.ravelry.com/patterns/library/shawl-2-4 \n\n\n\nhttps://www.ravelry.com/patterns/library/blouse-2-2 \n\n\n\nhttps://www.ravelry.com/patterns/library/shawl-1-4 \n\n\n\n\nReserve your spot now!
URL:https://motherknitter.com/event/stash-buster-kal/2025-08-15/
CATEGORIES:Knit-a-Long
ATTACH;FMTTYPE=image/png:https://motherknitter.com/wp-content/uploads/2025/07/top_2.1_medium2.png
END:VEVENT
BEGIN:VEVENT
DTSTART;TZID=America/New_York:20250819T150000
DTEND;TZID=America/New_York:20250819T170000
DTSTAMP:20260419T082558
CREATED:20250521T120739Z
LAST-MODIFIED:20250814T220952Z
UID:10001224-1755615600-1755622800@motherknitter.com
SUMMARY:Sheep Sweater KAL
DESCRIPTION:8 sessions: 3-5pm. \n\n\n\nThe Sheep Sweater by Rosa Pomar is a beautiful and fresh take on sheep imagery.  Possibly inspired by Princess Diana’s iconic sheep sweater\, this version has all over colorwork and steeks at the armholes and neck.   \n\n\n\nLevel: Intermediate \n\n\n\nSkills Required:  Stranded Colorwork\, steaking\, knitting in the round \n\n\n\nMaterials:  https://www.ravelry.com/patterns/library/the-sheep-sweater \n\n\n\nNon-superwash fingering weight yarn \n\n\n\nUS1 (2.25mm) and US2.5 (3mm) circular needles \n\n\n\nRecommended yarn:  Pegulhal by Rosa PomarYarn must be purchased from Mother Knitter. \n\n\n\n\nReserve your spot now!
URL:https://motherknitter.com/event/sheep-sweater-kal/2025-08-19/
CATEGORIES:Knit-a-Long
ATTACH;FMTTYPE=image/jpeg:https://motherknitter.com/wp-content/uploads/2025/05/DSC_1351.jpeg
END:VEVENT
BEGIN:VEVENT
DTSTART;TZID=America/New_York:20250822T140000
DTEND;TZID=America/New_York:20250822T160000
DTSTAMP:20260419T082558
CREATED:20250703T154450Z
LAST-MODIFIED:20250703T154453Z
UID:10001248-1755871200-1755878400@motherknitter.com
SUMMARY:Stash Buster KAL
DESCRIPTION:Sessions: July 25\, August 8\, August 15\, August 22\, August 29 at 2-4pm \n\n\n\nAre you feeling overwhelmed by your ever-growing stash? This is the KAL for you! Choose from 5 different designs all using the same stitch pattern: two shawls\, a tank top\, a project bag\, or a blouse. These designs call for many contrast colors in small quantities so they are a perfect stash buster for your light fingering or fingering weight scraps. \n\n\n\nYarn purchase at Mother Knitter required for your main color. \n\n\n\n\nLocation: In person\n\n\n\nSkill level: Intermediate\n\n\n\nSkills required: Lace\, seaming\n\n\n\nRecommended yarn: Tynn Line\, Sunday\n\n\n\nNeedle sizes required: Varies depending on pattern\n\n\n\n\nPatterns: \n\n\n\nhttps://www.ravelry.com/patterns/library/top-2-3 \n\n\n\nhttps://www.ravelry.com/patterns/library/project-bag-13 \n\n\n\nhttps://www.ravelry.com/patterns/library/shawl-2-4 \n\n\n\nhttps://www.ravelry.com/patterns/library/blouse-2-2 \n\n\n\nhttps://www.ravelry.com/patterns/library/shawl-1-4 \n\n\n\n\nReserve your spot now!
URL:https://motherknitter.com/event/stash-buster-kal/2025-08-22/
CATEGORIES:Knit-a-Long
ATTACH;FMTTYPE=image/png:https://motherknitter.com/wp-content/uploads/2025/07/top_2.1_medium2.png
END:VEVENT
END:VCALENDAR