BEGIN:VCALENDAR
VERSION:2.0
PRODID:-//Mother Knitter - ECPv6.15.20//NONSGML v1.0//EN
CALSCALE:GREGORIAN
METHOD:PUBLISH
X-ORIGINAL-URL:https://motherknitter.com
X-WR-CALDESC:Events for Mother Knitter
REFRESH-INTERVAL;VALUE=DURATION:PT1H
X-Robots-Tag:noindex
X-PUBLISHED-TTL:PT1H
BEGIN:VTIMEZONE
TZID:America/New_York
BEGIN:DAYLIGHT
TZOFFSETFROM:-0500
TZOFFSETTO:-0400
TZNAME:EDT
DTSTART:20220313T070000
END:DAYLIGHT
BEGIN:STANDARD
TZOFFSETFROM:-0400
TZOFFSETTO:-0500
TZNAME:EST
DTSTART:20221106T060000
END:STANDARD
BEGIN:DAYLIGHT
TZOFFSETFROM:-0500
TZOFFSETTO:-0400
TZNAME:EDT
DTSTART:20230312T070000
END:DAYLIGHT
BEGIN:STANDARD
TZOFFSETFROM:-0400
TZOFFSETTO:-0500
TZNAME:EST
DTSTART:20231105T060000
END:STANDARD
BEGIN:DAYLIGHT
TZOFFSETFROM:-0500
TZOFFSETTO:-0400
TZNAME:EDT
DTSTART:20240310T070000
END:DAYLIGHT
BEGIN:STANDARD
TZOFFSETFROM:-0400
TZOFFSETTO:-0500
TZNAME:EST
DTSTART:20241103T060000
END:STANDARD
END:VTIMEZONE
BEGIN:VEVENT
DTSTART;TZID=America/New_York:20231017T170000
DTEND;TZID=America/New_York:20231017T190000
DTSTAMP:20260419T082608
CREATED:20230926T135937Z
LAST-MODIFIED:20230926T135939Z
UID:10000253-1697562000-1697569200@motherknitter.com
SUMMARY:KAL Ole Sweater for Kids
DESCRIPTION:Sign Up Here\n\n\n\n\nOct 17\, 24\, Nov 7 &  Nov 14 \n\n\n\nKnit the Sandnes Garn new Ole Sweater for children. It is a lightly textured fabric\, unisex pattern in sizes 2-10 years old. It is featured in Sandnes Garn Merinoull or Smart\, equally soft and warm.  Several new colors have been added to the palette.    \n\n\n\nThe Ole Sweater is a perfect intermediate to advanced beginner sweater to knit. With the holidays coming\, why not knit an impressive gift for your child\, grandchild\, niece\, nephew or special friend? \n\n\n\nMaterials: Recommended Needle size is a 4mm or US 6Merinoull or Smart Yarnstitch markerstapestry needle 
URL:https://motherknitter.com/event/kal-ole-sweater-for-kids/
CATEGORIES:Knit-a-Long
ATTACH;FMTTYPE=image/webp:https://motherknitter.com/wp-content/uploads/2023/08/2307-7-5.webp
END:VEVENT
BEGIN:VEVENT
DTSTART;TZID=America/New_York:20231025T170000
DTEND;TZID=America/New_York:20231025T190000
DTSTAMP:20260419T082608
CREATED:20231019T142425Z
LAST-MODIFIED:20231019T170907Z
UID:10000258-1698253200-1698260400@motherknitter.com
SUMMARY:FREE Romy Sweater Knit-Along
DESCRIPTION:Sign Up Here for In Store\n\n\n\nSign up for Virtual KAL\n\n\n\n\n \n\n\n\nThis knit-along has no instruction. It is 4 sessions in total on Oct 25\, Nov 1\, 8\, and 15.  \n\n\n\n**You’ll get a link to the virtual KAL on the morning of Wednesday\, Oct 25th. \n\n\n\nSandnes Garn is having a Knit-Along! The Romy Sweater\, from their latest women’s collection: 2311 Vol 2\, has been crazy popular worldwide ❤️ \n\n\n\nStarting now through 11/15\, all you need to do is order your yarn and follow the rules below to participate in the knit-along (and be entered to win a prize!).  \n\n\n\nHere’s how to join:– Get the yarn and pattern for the Romy Sweater either in person at our Red Bank location or via our website – Follow Sandnes Garn’s story and feed on Instagram and TikTok for inspiration\, knitting tips and helpful videos – Share your knitting process with us!– Use #Romykal and tag @mother_knitter and @sandnesgarn– Win Prizes! To enter\, you must use #Romykal and #Romysweater in the posts you share in your feed\, on Instagram and/or TikTok by November 15th. – You can find all the knitting videos and inspiration for the knit along under highlights “Romykal” on Sandnes Garn’s profile
URL:https://motherknitter.com/event/romy-sweater-knit-along/
CATEGORIES:Knit-a-Long
ATTACH;FMTTYPE=image/jpeg:https://motherknitter.com/wp-content/uploads/2023/10/2311-3-4_resized.jpg
END:VEVENT
END:VCALENDAR