BEGIN:VCALENDAR
VERSION:2.0
PRODID:-//Mother Knitter - ECPv6.15.20//NONSGML v1.0//EN
CALSCALE:GREGORIAN
METHOD:PUBLISH
X-ORIGINAL-URL:https://motherknitter.com
X-WR-CALDESC:Events for Mother Knitter
REFRESH-INTERVAL;VALUE=DURATION:PT1H
X-Robots-Tag:noindex
X-PUBLISHED-TTL:PT1H
BEGIN:VTIMEZONE
TZID:America/New_York
BEGIN:DAYLIGHT
TZOFFSETFROM:-0500
TZOFFSETTO:-0400
TZNAME:EDT
DTSTART:20220313T070000
END:DAYLIGHT
BEGIN:STANDARD
TZOFFSETFROM:-0400
TZOFFSETTO:-0500
TZNAME:EST
DTSTART:20221106T060000
END:STANDARD
BEGIN:DAYLIGHT
TZOFFSETFROM:-0500
TZOFFSETTO:-0400
TZNAME:EDT
DTSTART:20230312T070000
END:DAYLIGHT
BEGIN:STANDARD
TZOFFSETFROM:-0400
TZOFFSETTO:-0500
TZNAME:EST
DTSTART:20231105T060000
END:STANDARD
BEGIN:DAYLIGHT
TZOFFSETFROM:-0500
TZOFFSETTO:-0400
TZNAME:EDT
DTSTART:20240310T070000
END:DAYLIGHT
BEGIN:STANDARD
TZOFFSETFROM:-0400
TZOFFSETTO:-0500
TZNAME:EST
DTSTART:20241103T060000
END:STANDARD
END:VTIMEZONE
BEGIN:VEVENT
DTSTART;TZID=America/New_York:20230905T170000
DTEND;TZID=America/New_York:20230905T190000
DTSTAMP:20260419T095428
CREATED:20230822T141007Z
LAST-MODIFIED:20230822T143110Z
UID:10000229-1693933200-1693940400@motherknitter.com
SUMMARY:Knit-Along Pinwheel Blanket
DESCRIPTION:SIgn Up Here\n\n\n\n\n\n\nClasses are on Sept 5\, 12\, 26\, Oct 3 & 10. \n\n\n\nFeatured in the Minipom Happy Knits for Little Kids from Pompom\, the Pinwheel Blanket by Toshiyuki Shimada is a whimsical pattern in Entrelac garter stitch. \n\n\n\nIn this Knit-along\, you can choose option A to make the blanket in one of two sizes using fingering weight yarn or option B the pattern can be knitted in any weight yarn with the appropriate size needle for a lovely throw.  (yarn required to be determined by selection) \n\n\n\nThe first session will be a class to learn the Entrelec technique by creating a swatch using the six square patterns used. \n\n\n\nThe second\, third\, fourth\, and fifth sessions will be traditional Knit-Along fun! \n\n\n\nYarn required in fingering weight for option A S/L: \n\n\n\nYarn A: 375 (950)m/404 (1036)yds \n\n\n\nYarn B: 50(125)m/ 55 (135) yds \n\n\n\nYarn C: 30(80)m/ 33(83) ydsYarn B & C can be combined for a two color option
URL:https://motherknitter.com/event/knit-along-pinwheel-blanket/
CATEGORIES:Knit-a-Long
ATTACH;FMTTYPE=image/jpeg:https://motherknitter.com/wp-content/uploads/2023/08/Pinwheel_Blanket_MINI_POM_PomPomPress_ToshiyukiShimada_0714_medium2.jpg
END:VEVENT
BEGIN:VEVENT
DTSTART;TZID=America/New_York:20230907T060000
DTEND;TZID=America/New_York:20230907T200000
DTSTAMP:20260419T095428
CREATED:20230818T154156Z
LAST-MODIFIED:20230824T143139Z
UID:10000228-1694066400-1694116800@motherknitter.com
SUMMARY:Knit-Along Pressed Flower Sweater
DESCRIPTION:Sign Up Here\n\n\n\n\n\n\n4 Classes are on Thursdays\, Sept 7\, 14\, 21\, and Oct 5 at 6:00 pm \n\n\n\nAmy Christoffers Pressed Flowers Pullover is the newest design in her series of beautiful garments and accessories of flower motifs. The allover Mosaic technique is fun and a great way to get into colorwork knitting\, as you are only holding one strand of yarn at a time. Knit in dk weight yarn\, you’re sure to have a warm and comfortable sweater perfect for the cooler months! Also perfect to get ready for all of the Fall fiber festivals! \n\n\n\nThe first session is a class\, where you will learn the Mosiac technique while knitting your swatch. The next 3 sessions are the Knit-Along\, meant to help each other along the way\, though you should have the skills needed to complete the sweater. There will be an extra week between the 3rd and 4th sessions\, to give you more time to knit the body of your sweater.  \n\n\n\nOur recommended yarn is Scout by Kelbourne Woolens for its beautiful color range\, warm\, insulating properties\, and amazing softness!  \n\n\n\nLevel: intermediate  \n\n\n\nSkills Required: Understanding of top-down sweater construction\, Mosaic knitting  \n\n\n\nMaterials: Pressed Flowers Pullover pattern by Amy ChristoffersUS 5 and US 7\, 16″ and 32″ circular needles725-1350 yards dk weight yarn for Main Color 425-1050 yards dk weight yarn for Contrast color4 stitch markers Tapestry needle  
URL:https://motherknitter.com/event/knit-along-pressed-flower-sweater/
CATEGORIES:Knit-a-Long
ATTACH;FMTTYPE=image/jpeg:https://motherknitter.com/wp-content/uploads/2023/08/IMG_9086_medium2.jpeg
END:VEVENT
END:VCALENDAR